BEGIN:VCALENDAR
VERSION:2.0
PRODID:-//jEvents 2.0 for Joomla//EN
CALSCALE:GREGORIAN
METHOD:PUBLISH
BEGIN:VTIMEZONE
TZID:Europe/Berlin
BEGIN:STANDARD
DTSTART:20201025T020000
RDATE:20210328T030000
TZOFFSETFROM:+0200
TZOFFSETTO:+0100
TZNAME:Europe/Berlin CET
END:STANDARD
BEGIN:STANDARD
DTSTART:20211031T020000
RDATE:20220327T030000
TZOFFSETFROM:+0200
TZOFFSETTO:+0100
TZNAME:Europe/Berlin CET
END:STANDARD
BEGIN:STANDARD
DTSTART:20221030T020000
RDATE:20230326T030000
TZOFFSETFROM:+0200
TZOFFSETTO:+0100
TZNAME:Europe/Berlin CET
END:STANDARD
BEGIN:STANDARD
DTSTART:20231029T020000
RDATE:20240331T030000
TZOFFSETFROM:+0200
TZOFFSETTO:+0100
TZNAME:Europe/Berlin CET
END:STANDARD
BEGIN:STANDARD
DTSTART:20241027T020000
RDATE:20250330T030000
TZOFFSETFROM:+0200
TZOFFSETTO:+0100
TZNAME:Europe/Berlin CET
END:STANDARD
BEGIN:STANDARD
DTSTART:20251026T020000
RDATE:20260329T030000
TZOFFSETFROM:+0200
TZOFFSETTO:+0100
TZNAME:Europe/Berlin CET
END:STANDARD
BEGIN:STANDARD
DTSTART:20261025T020000
RDATE:20270328T030000
TZOFFSETFROM:+0200
TZOFFSETTO:+0100
TZNAME:Europe/Berlin CET
END:STANDARD
BEGIN:STANDARD
DTSTART:20271031T020000
RDATE:20280326T030000
TZOFFSETFROM:+0200
TZOFFSETTO:+0100
TZNAME:Europe/Berlin CET
END:STANDARD
BEGIN:DAYLIGHT
DTSTART:20200501T000000
RDATE:20201025T020000
TZOFFSETFROM:+0100
TZOFFSETTO:+0200
TZNAME:Europe/Berlin CEST
END:DAYLIGHT
BEGIN:DAYLIGHT
DTSTART:20210328T030000
RDATE:20211031T020000
TZOFFSETFROM:+0100
TZOFFSETTO:+0200
TZNAME:Europe/Berlin CEST
END:DAYLIGHT
BEGIN:DAYLIGHT
DTSTART:20220327T030000
RDATE:20221030T020000
TZOFFSETFROM:+0100
TZOFFSETTO:+0200
TZNAME:Europe/Berlin CEST
END:DAYLIGHT
BEGIN:DAYLIGHT
DTSTART:20230326T030000
RDATE:20231029T020000
TZOFFSETFROM:+0100
TZOFFSETTO:+0200
TZNAME:Europe/Berlin CEST
END:DAYLIGHT
BEGIN:DAYLIGHT
DTSTART:20240331T030000
RDATE:20241027T020000
TZOFFSETFROM:+0100
TZOFFSETTO:+0200
TZNAME:Europe/Berlin CEST
END:DAYLIGHT
BEGIN:DAYLIGHT
DTSTART:20250330T030000
RDATE:20251026T020000
TZOFFSETFROM:+0100
TZOFFSETTO:+0200
TZNAME:Europe/Berlin CEST
END:DAYLIGHT
BEGIN:DAYLIGHT
DTSTART:20260329T030000
RDATE:20261025T020000
TZOFFSETFROM:+0100
TZOFFSETTO:+0200
TZNAME:Europe/Berlin CEST
END:DAYLIGHT
BEGIN:DAYLIGHT
DTSTART:20270328T030000
RDATE:20271031T020000
TZOFFSETFROM:+0100
TZOFFSETTO:+0200
TZNAME:Europe/Berlin CEST
END:DAYLIGHT
END:VTIMEZONE
BEGIN:VEVENT
UID:302f0194587d81404bd239d2557c075f
CATEGORIES:Bikemarathons
CREATED:20210415T183516
SUMMARY:29. Sebnitzer Mountainbike-Cup
LOCATION:Austragungsort des Rennens ist der Sebnitzer Ski-Räumicht
DESCRIPTION:29. Sebnitzer Mountainbike-Cup \n"Austragungsort des Rennens ist der Sebnit
 zer Ski-Räumicht.  (http://www.sebnitzer-mtb-cup.de/)\nAnschrift: Ski-Heim 
 Räumicht, Tannertstraße 52, 01855 Sebnitz"\n \nKurze Fakten:\n\n - 1. von 5
  Rennen im PEKLO-SEVERU-Cup (http://www.pekloseveru.cz)\n - Distanz 50 km -
  16,5 km-Runde mit 420 Höhenmetern\n - 0,5 km Einführungsrunde\n - Kinderre
 nnen von 0 – 3 Jahren\n - Grenzüberschreitende Rennserie \n
X-ALT-DESC;FMTTYPE=text/html:<h3><span style="font-size: 12pt; color: #339966;">29. Sebnitzer Mountainbi
 ke-Cup</span></h3><p> </p><p><span style="font-size: 10pt; font-family: ari
 al, helvetica, sans-serif;"><a href="http://www.sebnitzer-mtb-cup.de/">"Aus
 tragungsort des Rennens ist der Sebnitzer Ski-Räumicht. </a><br />Anschrift
 : Ski-Heim Räumicht, Tannertstraße 52, 01855 Sebnitz"</span></p><p> </p><p>
 Kurze Fakten:</p><ul><li>1. von 5 Rennen im <a href="http://www.pekloseveru
 .cz" target="_blank" rel="noopener noreferrer">PEKLO-SEVERU-Cup</a></li><li
 >Distanz 50 km - 16,5 km-Runde mit 420 Höhenmetern</li><li>0,5 km Einführun
 gsrunde</li><li>Kinderrennen von 0 – 3 Jahren</li><li>Grenzüberschreitende 
 Rennserie</li></ul><p> </p>
CONTACT:http://www.sebnitzer-mtb-cup.de/ (http://www.sebnitzer-mtb-cup.de/)
X-EXTRAINFO:für 2021 Abgesagt
DTSTAMP:20260421T173722
DTSTART;TZID=Europe/Berlin;VALUE=DATE:20210502
DTEND;TZID=Europe/Berlin;VALUE=DATE:20210503
SEQUENCE:0
TRANSP:OPAQUE
END:VEVENT
END:VCALENDAR